0.698519587516785
0.000000000000000
0.000000000000000
-0.698519587516785
531015.728411156220000
224260.124855118370000
